BEGIN:VCALENDAR
VERSION:2.0
PRODID:-//Holy Trinity Church Cookham - ECPv6.15.12.2//NONSGML v1.0//EN
CALSCALE:GREGORIAN
METHOD:PUBLISH
X-WR-CALNAME:Holy Trinity Church Cookham
X-ORIGINAL-URL:https://holytrinitycookham.org.uk
X-WR-CALDESC:Events for Holy Trinity Church Cookham
REFRESH-INTERVAL;VALUE=DURATION:PT1H
X-Robots-Tag:noindex
X-PUBLISHED-TTL:PT1H
BEGIN:VTIMEZONE
TZID:UTC
BEGIN:STANDARD
TZOFFSETFROM:+0000
TZOFFSETTO:+0000
TZNAME:UTC
DTSTART:20240101T000000
END:STANDARD
END:VTIMEZONE
BEGIN:VEVENT
DTSTART;TZID=UTC:20250209T120000
DTEND;TZID=UTC:20250209T140000
DTSTAMP:20260420T002902
CREATED:20250103T121015Z
LAST-MODIFIED:20250103T121015Z
UID:15049-1739102400-1739109600@holytrinitycookham.org.uk
SUMMARY:Fellowship Lunch
DESCRIPTION:Details coming closer to the time.
URL:https://holytrinitycookham.org.uk/event/fellowship-lunch-2/
LOCATION:Holy Trinity Church
END:VEVENT
END:VCALENDAR