BEGIN:VCALENDAR
VERSION:2.0
PRODID:-//Holy Trinity Church Cookham - ECPv6.15.12.2//NONSGML v1.0//EN
CALSCALE:GREGORIAN
METHOD:PUBLISH
X-ORIGINAL-URL:https://holytrinitycookham.org.uk
X-WR-CALDESC:Events for Holy Trinity Church Cookham
REFRESH-INTERVAL;VALUE=DURATION:PT1H
X-Robots-Tag:noindex
X-PUBLISHED-TTL:PT1H
BEGIN:VTIMEZONE
TZID:UTC
BEGIN:STANDARD
TZOFFSETFROM:+0000
TZOFFSETTO:+0000
TZNAME:UTC
DTSTART:20230101T000000
END:STANDARD
END:VTIMEZONE
BEGIN:VEVENT
DTSTART;TZID=UTC:20240111T190000
DTEND;TZID=UTC:20240111T203000
DTSTAMP:20260419T155723
CREATED:20240108T180239Z
LAST-MODIFIED:20240108T180548Z
UID:14692-1704999600-1705005000@holytrinitycookham.org.uk
SUMMARY:Institution and Induction of Revd Stephen Mills
DESCRIPTION:We hope that as many of our congregations as possible will come to the Institution and Induction Service\, led by the Bishop of Reading and Archdeacon of Berkshire\, to welcome Revd Stephen Mills as our new Vicar of the Cookhams. \nOriginally planned to be at Holy Trinity Cookham you are no doubt aware Cookham is badly affected by flooding and there is no vehicular access to the village in the evenings.  We have therefore decided to relocate the Institution and Induction of The Rev Stephen Mills to St John the Baptist Church. \nThis church is slightly smaller than Holy Trinity Church and there is limited parking. \nThere will still be refreshments afterwards  to which all are welcome.
URL:https://holytrinitycookham.org.uk/event/institution-and-induction-of-revd-stephen-mills/
LOCATION:SJB\, Church Road\, Cookham Dean\, Berkshire\, SL6 9PD\, United Kingdom
END:VEVENT
END:VCALENDAR