BEGIN:VCALENDAR
VERSION:2.0
PRODID:-//Holy Trinity Church Cookham - ECPv6.15.12.2//NONSGML v1.0//EN
CALSCALE:GREGORIAN
METHOD:PUBLISH
X-WR-CALNAME:Holy Trinity Church Cookham
X-ORIGINAL-URL:https://holytrinitycookham.org.uk
X-WR-CALDESC:Events for Holy Trinity Church Cookham
REFRESH-INTERVAL;VALUE=DURATION:PT1H
X-Robots-Tag:noindex
X-PUBLISHED-TTL:PT1H
BEGIN:VTIMEZONE
TZID:UTC
BEGIN:STANDARD
TZOFFSETFROM:+0000
TZOFFSETTO:+0000
TZNAME:UTC
DTSTART:20220101T000000
END:STANDARD
END:VTIMEZONE
BEGIN:VEVENT
DTSTART;TZID=UTC:20230312T130000
DTEND;TZID=UTC:20230312T150000
DTSTAMP:20260419T212500
CREATED:20221104T145857Z
LAST-MODIFIED:20221104T145857Z
UID:14182-1678626000-1678633200@holytrinitycookham.org.uk
SUMMARY:Cookham Churches Together Fellowship Lunch
DESCRIPTION:Join us at our monthly Sunday lunch run jointly by Holy Trinity\, St John the Baptist and Cookham Rise Methodist Church.
URL:https://holytrinitycookham.org.uk/event/cookham-churches-together-fellowship-lunch-6/
LOCATION:Holy Trinity Church
ORGANIZER;CN="Bernadette Clark":MAILTO:bernadette@tapestryoflife.co.uk
END:VEVENT
END:VCALENDAR