BEGIN:VCALENDAR
VERSION:2.0
PRODID:-//Holy Trinity Church Cookham - ECPv6.15.12.2//NONSGML v1.0//EN
CALSCALE:GREGORIAN
METHOD:PUBLISH
X-WR-CALNAME:Holy Trinity Church Cookham
X-ORIGINAL-URL:https://holytrinitycookham.org.uk
X-WR-CALDESC:Events for Holy Trinity Church Cookham
REFRESH-INTERVAL;VALUE=DURATION:PT1H
X-Robots-Tag:noindex
X-PUBLISHED-TTL:PT1H
BEGIN:VTIMEZONE
TZID:UTC
BEGIN:STANDARD
TZOFFSETFROM:+0000
TZOFFSETTO:+0000
TZNAME:UTC
DTSTART:20220101T000000
END:STANDARD
END:VTIMEZONE
BEGIN:VEVENT
DTSTART;TZID=UTC:20230212T130000
DTEND;TZID=UTC:20230212T150000
DTSTAMP:20260419T225159
CREATED:20221104T145649Z
LAST-MODIFIED:20221104T145649Z
UID:14180-1676206800-1676214000@holytrinitycookham.org.uk
SUMMARY:Cookham Churches Together Fellowship Lunch
DESCRIPTION:Join us at our monthly Sunday lunch run jointly by Holy Trinity\, St John the Baptist and Cookham Rise Methodist Church.
URL:https://holytrinitycookham.org.uk/event/cookham-churches-together-fellowship-lunch-5/
LOCATION:SJB\, Church Road\, Cookham Dean\, Berkshire\, SL6 9PD\, United Kingdom
END:VEVENT
BEGIN:VEVENT
DTSTART;TZID=UTC:20230220T190000
DTEND;TZID=UTC:20230220T200000
DTSTAMP:20260419T225159
CREATED:20230217T182938Z
LAST-MODIFIED:20230217T182938Z
UID:14300-1676919600-1676923200@holytrinitycookham.org.uk
SUMMARY:Trinity Talk: The History of English Church Bells & Change Ringing
DESCRIPTION:Local resident Martin Gostling delivers the next Trinity Talk at Bel and The Dragon. Martin Gostling has lived in Cookham for nearly 40 years\, has attended Holy Trinity Church for over 20 years and started bell ringing around 2010. He has just retired from a 45 year career in computer programming and was a retained fire fighter in Cookham and Maidenhead for more than 27 years. The Talks are held at Bel and The Dragon in Cookham High Street on the third Monday of the month (usually) and celebrate the talents of people living in Cookham and its environs. These are fund-raising events for Holy Trinity Church. Everyone is welcome\, but capacity is limited and it is advisable to check in advance. Places at £20 each can be reserved by phone on 01628 527465 or email stephaniediggon@hotmail.com Pay cash on arrival from 6.30pm at Bel and The Dragon for Prosecco and canapés\, the talk starts at 7.00pm.
URL:https://holytrinitycookham.org.uk/event/trinity-talk-the-history-of-english-church-bells-change-ringing/
LOCATION:Bel and The Dragon\, High St\, Cookham\, Berkshire\, SL6 9SQ\, United Kingdom
END:VEVENT
END:VCALENDAR