BEGIN:VCALENDAR
VERSION:2.0
PRODID:-//Holy Trinity Church Cookham - ECPv6.15.12.2//NONSGML v1.0//EN
CALSCALE:GREGORIAN
METHOD:PUBLISH
X-WR-CALNAME:Holy Trinity Church Cookham
X-ORIGINAL-URL:https://holytrinitycookham.org.uk
X-WR-CALDESC:Events for Holy Trinity Church Cookham
REFRESH-INTERVAL;VALUE=DURATION:PT1H
X-Robots-Tag:noindex
X-PUBLISHED-TTL:PT1H
BEGIN:VTIMEZONE
TZID:UTC
BEGIN:STANDARD
TZOFFSETFROM:+0000
TZOFFSETTO:+0000
TZNAME:UTC
DTSTART:20220101T000000
END:STANDARD
END:VTIMEZONE
BEGIN:VEVENT
DTSTART;TZID=UTC:20230108T130000
DTEND;TZID=UTC:20230108T150000
DTSTAMP:20260420T001837
CREATED:20221104T145406Z
LAST-MODIFIED:20221104T145506Z
UID:14176-1673182800-1673190000@holytrinitycookham.org.uk
SUMMARY:Cookham Churches Together Fellowship Lunch
DESCRIPTION:Join us at our monthly Sunday lunch run jointly by Holy Trinity\, St John the Baptist and Cookham Rise Methodist Church.
URL:https://holytrinitycookham.org.uk/event/cookham-churches-together-fellowship-lunch-4/
LOCATION:Cookham Methodist Church\, Lower Road\, Cookham\, Berkshire\, SL6 9HJ\, United Kingdom
END:VEVENT
BEGIN:VEVENT
DTSTART;TZID=UTC:20230115T183000
DTEND;TZID=UTC:20230115T193000
DTSTAMP:20260420T001837
CREATED:20221121T115446Z
LAST-MODIFIED:20221121T115446Z
UID:14235-1673807400-1673811000@holytrinitycookham.org.uk
SUMMARY:Epiphany Carol Service
DESCRIPTION:Light and cheer in the long month of January. \nMusic led by the Men’s Choir
URL:https://holytrinitycookham.org.uk/event/epiphany-carol-service/
LOCATION:Holy Trinity Church
END:VEVENT
BEGIN:VEVENT
DTSTART;TZID=UTC:20230122T160000
DTEND;TZID=UTC:20230122T170000
DTSTAMP:20260420T001837
CREATED:20221104T143456Z
LAST-MODIFIED:20221104T143522Z
UID:14164-1674403200-1674406800@holytrinitycookham.org.uk
SUMMARY:4th Sunday @ 4
DESCRIPTION:Our special once a month service\, specially tailored for families of all ages and those who prefer a less formal and shorter form of worship.
URL:https://holytrinitycookham.org.uk/event/14164/
LOCATION:SJB\, Church Road\, Cookham Dean\, Berkshire\, SL6 9PD\, United Kingdom
END:VEVENT
END:VCALENDAR