BEGIN:VCALENDAR
VERSION:2.0
PRODID:-//Holy Trinity Church Cookham - ECPv6.15.12.2//NONSGML v1.0//EN
CALSCALE:GREGORIAN
METHOD:PUBLISH
X-ORIGINAL-URL:https://holytrinitycookham.org.uk
X-WR-CALDESC:Events for Holy Trinity Church Cookham
REFRESH-INTERVAL;VALUE=DURATION:PT1H
X-Robots-Tag:noindex
X-PUBLISHED-TTL:PT1H
BEGIN:VTIMEZONE
TZID:UTC
BEGIN:STANDARD
TZOFFSETFROM:+0000
TZOFFSETTO:+0000
TZNAME:UTC
DTSTART:20210101T000000
END:STANDARD
END:VTIMEZONE
BEGIN:VEVENT
DTSTART;TZID=UTC:20221211T130000
DTEND;TZID=UTC:20221211T150000
DTSTAMP:20260420T014530
CREATED:20221104T145027Z
LAST-MODIFIED:20221104T145027Z
UID:14173-1670763600-1670770800@holytrinitycookham.org.uk
SUMMARY:Cookham Churches Together Fellowship Lunch
DESCRIPTION:Join us at our monthly Sunday lunch run jointly by Holy Trinity\, St John the Baptist and Cookham Rise Methodist Church.
URL:https://holytrinitycookham.org.uk/event/cookham-churches-together-fellowship-lunch-3/
LOCATION:SJB\, Church Road\, Cookham Dean\, Berkshire\, SL6 9PD\, United Kingdom
END:VEVENT
BEGIN:VEVENT
DTSTART;TZID=UTC:20221211T183000
DTEND;TZID=UTC:20221211T193000
DTSTAMP:20260420T014530
CREATED:20221121T112546Z
LAST-MODIFIED:20221121T112546Z
UID:14222-1670783400-1670787000@holytrinitycookham.org.uk
SUMMARY:Rumours of Christmas
DESCRIPTION:A special service of Advent and Christmas music and readings. \nAn opportunity for those who cannot be here on 25th December to experience a little Christmas in Cookham. Refreshments after the service. \nMusic led by the Choristers’ Mums’ Choir.
URL:https://holytrinitycookham.org.uk/event/rumours-of-christmas/
LOCATION:Holy Trinity Church
END:VEVENT
BEGIN:VEVENT
DTSTART;TZID=UTC:20221217T113000
DTEND;TZID=UTC:20221217T130000
DTSTAMP:20260420T014530
CREATED:20221112T112357Z
LAST-MODIFIED:20221112T112357Z
UID:14212-1671276600-1671282000@holytrinitycookham.org.uk
SUMMARY:Christmas Concertini with the Cantorum Choir
DESCRIPTION:Put on the Christmas jumper and join us for a truly festive finale to this year’s Concertini concerts!\nWe hope to go out with a Christmasy bang\, and what better way than to be surrounded by the joyful vocals of this brilliant choir\, headed up by distinguished international conductor\, Oliver Gooch. \nOh and don’t worry\, there will be mulled wine and mince pies after you’ve sung your hearts out. \n£12 | £10 Concessions \nChildren and Babies go FREE!
URL:https://holytrinitycookham.org.uk/event/christmas-concertini-with-the-cantorum-choir/
LOCATION:Holy Trinity Church
END:VEVENT
BEGIN:VEVENT
DTSTART;TZID=UTC:20221224T160000
DTEND;TZID=UTC:20221224T180000
DTSTAMP:20260420T014530
CREATED:20221121T112818Z
LAST-MODIFIED:20221121T112818Z
UID:14225-1671897600-1671904800@holytrinitycookham.org.uk
SUMMARY:Christmas Eve - Visit the Christmas Crib
DESCRIPTION:You are invited to visit the Crib at both churches. \nThere is a small gift for each family that visits.
URL:https://holytrinitycookham.org.uk/event/christmas-eve-visit-the-christmas-crib/
LOCATION:Holy Trinity Church
END:VEVENT
BEGIN:VEVENT
DTSTART;TZID=UTC:20221224T210000
DTEND;TZID=UTC:20221224T220000
DTSTAMP:20260420T014530
CREATED:20221121T114428Z
LAST-MODIFIED:20221121T114428Z
UID:14227-1671915600-1671919200@holytrinitycookham.org.uk
SUMMARY:Vigil Eucharist
DESCRIPTION:Music led by the Choristers’ Mums’ Choir.
URL:https://holytrinitycookham.org.uk/event/vigil-eucharist/
LOCATION:Holy Trinity Church
END:VEVENT
BEGIN:VEVENT
DTSTART;TZID=UTC:20221225T080000
DTEND;TZID=UTC:20221225T090000
DTSTAMP:20260420T014530
CREATED:20221121T114543Z
LAST-MODIFIED:20221121T114543Z
UID:14229-1671955200-1671958800@holytrinitycookham.org.uk
SUMMARY:Christmas Day - Holy Communion (1662)
DESCRIPTION:
URL:https://holytrinitycookham.org.uk/event/christmas-day-holy-communion-1662/
LOCATION:Holy Trinity Church
END:VEVENT
BEGIN:VEVENT
DTSTART;TZID=UTC:20221225T110000
DTEND;TZID=UTC:20221225T120000
DTSTAMP:20260420T014530
CREATED:20221121T114654Z
LAST-MODIFIED:20221121T114654Z
UID:14231-1671966000-1671969600@holytrinitycookham.org.uk
SUMMARY:Festival Eucharist
DESCRIPTION:
URL:https://holytrinitycookham.org.uk/event/festival-eucharist/
LOCATION:Holy Trinity Church
END:VEVENT
BEGIN:VEVENT
DTSTART;TZID=UTC:20221225T183000
DTEND;TZID=UTC:20221225T193000
DTSTAMP:20260420T014530
CREATED:20221121T114826Z
LAST-MODIFIED:20221121T114826Z
UID:14233-1671993000-1671996600@holytrinitycookham.org.uk
SUMMARY:Carols by Candlelight
DESCRIPTION:A lovely way to start your evening festivities\, with this very Cookham tradition. Music led by the Girls’ Choir\, Boys’ Choir & Men’s Choir – and with carols for all to sing. Collection in aid of Thames Hospice.
URL:https://holytrinitycookham.org.uk/event/carols-by-candlelight/
LOCATION:Holy Trinity Church
END:VEVENT
END:VCALENDAR