BEGIN:VCALENDAR
VERSION:2.0
PRODID:-//Holy Trinity Church Cookham - ECPv6.15.12.2//NONSGML v1.0//EN
CALSCALE:GREGORIAN
METHOD:PUBLISH
X-WR-CALNAME:Holy Trinity Church Cookham
X-ORIGINAL-URL:https://holytrinitycookham.org.uk
X-WR-CALDESC:Events for Holy Trinity Church Cookham
REFRESH-INTERVAL;VALUE=DURATION:PT1H
X-Robots-Tag:noindex
X-PUBLISHED-TTL:PT1H
BEGIN:VTIMEZONE
TZID:UTC
BEGIN:STANDARD
TZOFFSETFROM:+0000
TZOFFSETTO:+0000
TZNAME:UTC
DTSTART:20210101T000000
END:STANDARD
END:VTIMEZONE
BEGIN:VEVENT
DTSTART;TZID=UTC:20221106T130000
DTEND;TZID=UTC:20221106T150000
DTSTAMP:20260420T031431
CREATED:20221104T144722Z
LAST-MODIFIED:20221104T144722Z
UID:14170-1667739600-1667746800@holytrinitycookham.org.uk
SUMMARY:Cookham Churches Together Fellowship Lunch
DESCRIPTION:Join us at our monthly Sunday lunch run jointly by Holy Trinity\, St John the Baptist and Cookham Rise Methodist Church.
URL:https://holytrinitycookham.org.uk/event/cookham-churches-together-fellowship-lunch-2/
LOCATION:Holy Trinity Church
ORGANIZER;CN="Bernadette Clark":MAILTO:bernadette@tapestryoflife.co.uk
END:VEVENT
BEGIN:VEVENT
DTSTART;TZID=UTC:20221106T183000
DTEND;TZID=UTC:20221106T193000
DTSTAMP:20260420T031431
CREATED:20221104T104843Z
LAST-MODIFIED:20221104T104843Z
UID:14123-1667759400-1667763000@holytrinitycookham.org.uk
SUMMARY:All Soul's Day Service
DESCRIPTION:All Soul’s Day Service for Loved Ones who Have Died\nThere is a list at the back of the church for the names of loved ones who you wish to be remembered during our special service. Please write clearly!
URL:https://holytrinitycookham.org.uk/event/all-souls-day-service/
LOCATION:Holy Trinity Church
END:VEVENT
BEGIN:VEVENT
DTSTART;TZID=UTC:20221107T180000
DTEND;TZID=UTC:20221107T183000
DTSTAMP:20260420T031431
CREATED:20221104T105220Z
LAST-MODIFIED:20221104T105220Z
UID:14125-1667844000-1667845800@holytrinitycookham.org.uk
SUMMARY:Prayers for The Ukraine
DESCRIPTION:Short contemplative services to say prayers and to light a candle to express our support for the people of Ukraine.
URL:https://holytrinitycookham.org.uk/event/prayers-for-the-ukraine/
LOCATION:Holy Trinity Church
END:VEVENT
BEGIN:VEVENT
DTSTART;TZID=UTC:20221109T150000
DTEND;TZID=UTC:20221109T160000
DTSTAMP:20260420T031431
CREATED:20221104T114326Z
LAST-MODIFIED:20221104T114326Z
UID:14140-1668006000-1668009600@holytrinitycookham.org.uk
SUMMARY:Kitty Richardson RIP
DESCRIPTION:Kitty’s family have asked us to invite you to her funeral which will be held here at Holy Trinity Church. Following the service everyone is invited to stay for a reception in the Parish Centre.
URL:https://holytrinitycookham.org.uk/event/kitty-richardson-rip/
LOCATION:Holy Trinity Church
END:VEVENT
BEGIN:VEVENT
DTSTART;TZID=UTC:20221112T083000
DTEND;TZID=UTC:20221112T100000
DTSTAMP:20260420T031431
CREATED:20221104T144140Z
LAST-MODIFIED:20221104T144140Z
UID:14167-1668241800-1668247200@holytrinitycookham.org.uk
SUMMARY:Men's Breakfast
DESCRIPTION:This month\, instead of having a speaker\, we have decided that Fr Nick and I will allow you to interrogate us on why we became Priests. \nWe will start with a five minute introduction about our individual experiences and then invite questions on any aspect of faith you may want to throw at us. We hope we will be able to answer a few questions that may have been at the back of your minds but you never felt it was right to voice them. If you would like to join us please email Rev. David Joynes so that we can determine the ingredients to get.
URL:https://holytrinitycookham.org.uk/event/mens-breakfast/
LOCATION:Holy Trinity Church
ORGANIZER;CN="Rev. David Joynes":MAILTO:revdavidjoynes@gmail.com
END:VEVENT
BEGIN:VEVENT
DTSTART;TZID=UTC:20221113T105000
DTEND;TZID=UTC:20221113T120000
DTSTAMP:20260420T031431
CREATED:20221104T114014Z
LAST-MODIFIED:20221104T150829Z
UID:14136-1668336600-1668340800@holytrinitycookham.org.uk
SUMMARY:Remembrance Sunday
DESCRIPTION:Starting at the Cookham War Memorial followed by a service at Holy Trinity Cookham (HTC).
URL:https://holytrinitycookham.org.uk/event/remembrance-sunday/
LOCATION:Cookham War Memorial\, Junction of High Street and School Lane\, Cookham\, Berkshire\, SL6 9SG\, United Kingdom
END:VEVENT
BEGIN:VEVENT
DTSTART;TZID=UTC:20221114T180000
DTEND;TZID=UTC:20221114T183000
DTSTAMP:20260420T031431
CREATED:20221104T110724Z
LAST-MODIFIED:20221104T110724Z
UID:14129-1668448800-1668450600@holytrinitycookham.org.uk
SUMMARY:Prayers for The Ukraine
DESCRIPTION:Short contemplative services to say prayers and to light a candle to express our support for the people of Ukraine.
URL:https://holytrinitycookham.org.uk/event/prayers-for-the-ukraine-3/
LOCATION:SJB\, Church Road\, Cookham Dean\, Berkshire\, SL6 9PD\, United Kingdom
END:VEVENT
BEGIN:VEVENT
DTSTART;TZID=UTC:20221121T180000
DTEND;TZID=UTC:20221121T183000
DTSTAMP:20260420T031431
CREATED:20221104T105926Z
LAST-MODIFIED:20221104T110028Z
UID:14127-1669053600-1669055400@holytrinitycookham.org.uk
SUMMARY:Prayers for The Ukraine
DESCRIPTION:Short contemplative services to say prayers and to light a candle to express our support for the people of Ukraine.
URL:https://holytrinitycookham.org.uk/event/prayers-for-the-ukraine-2/
LOCATION:Holy Trinity Church
END:VEVENT
BEGIN:VEVENT
DTSTART;TZID=UTC:20221121T183000
DTEND;TZID=UTC:20221121T200000
DTSTAMP:20260420T031431
CREATED:20221104T115037Z
LAST-MODIFIED:20221104T115037Z
UID:14142-1669055400-1669060800@holytrinitycookham.org.uk
SUMMARY:Trinity Talk with Richard Bampfield
DESCRIPTION:Richard Bampfield is one of 415 Masters of Wine in the world and has been immersed in the world of wine since leaving university with a French degree in 1981. He works for wine producers around the world\, particularly in France\, and is best known in the UK for being the face of wine in Lidl\, where he is behind the scores and tasting notes.\nTrinity Talks are held at Bel and The Dragon in Cookham High Street on the third Monday of the month (usually) and celebrate the talents of people living in Cookham and its environs. They are fund- raising events for Holy Trinity Church. Everyone is welcome\, but capacity is limited and it is advisable to check in advance. \n\n\n\nPay cash on arrival from 6.30pm at Bel and The Dragon for Prosecco and canapés\, the talk starts at 7pm and finishes around 8pm.
URL:https://holytrinitycookham.org.uk/event/trinity-talk-with-richard-bampfield/
LOCATION:Bel and The Dragon\, High St\, Cookham\, Berkshire\, SL6 9SQ\, United Kingdom
ORGANIZER;CN="Stephanie Diggon":MAILTO:stephaniediddon@hotmail.com
END:VEVENT
BEGIN:VEVENT
DTSTART;TZID=UTC:20221127T110000
DTEND;TZID=UTC:20221127T120000
DTSTAMP:20260420T031431
CREATED:20221104T115439Z
LAST-MODIFIED:20221104T150714Z
UID:14147-1669546800-1669550400@holytrinitycookham.org.uk
SUMMARY:Christingle at HTC
DESCRIPTION:Time to celebrate together with Christingles for the children in aid fo the Children’s Society.
URL:https://holytrinitycookham.org.uk/event/christingle-at-htc/
LOCATION:Holy Trinity Church
END:VEVENT
BEGIN:VEVENT
DTSTART;TZID=UTC:20221127T160000
DTEND;TZID=UTC:20221127T170000
DTSTAMP:20260420T031431
CREATED:20221104T143052Z
LAST-MODIFIED:20221104T143052Z
UID:14162-1669564800-1669568400@holytrinitycookham.org.uk
SUMMARY:4th Sunday @ 4 - Christingle
DESCRIPTION:A special 4th Sunday @ 4 when we will holding our Christingle Service. \nCome and enjoy the free refreshments in the Jubilee Vestry afterwards.
URL:https://holytrinitycookham.org.uk/event/4th-sunday-4-christingle/
LOCATION:SJB\, Church Road\, Cookham Dean\, Berkshire\, SL6 9PD\, United Kingdom
END:VEVENT
BEGIN:VEVENT
DTSTART;TZID=UTC:20221128T180000
DTEND;TZID=UTC:20221128T183000
DTSTAMP:20260420T031431
CREATED:20221104T110905Z
LAST-MODIFIED:20221104T110905Z
UID:14132-1669658400-1669660200@holytrinitycookham.org.uk
SUMMARY:Prayers for The Ukraine
DESCRIPTION:Short contemplative services to say prayers and to light a candle to express our support for the people of Ukraine.
URL:https://holytrinitycookham.org.uk/event/prayers-for-the-ukraine-4/
LOCATION:SJB\, Church Road\, Cookham Dean\, Berkshire\, SL6 9PD\, United Kingdom
END:VEVENT
END:VCALENDAR