BEGIN:VCALENDAR
VERSION:2.0
PRODID:-//Holy Trinity Church Cookham - ECPv6.15.12.2//NONSGML v1.0//EN
CALSCALE:GREGORIAN
METHOD:PUBLISH
X-WR-CALNAME:Holy Trinity Church Cookham
X-ORIGINAL-URL:https://holytrinitycookham.org.uk
X-WR-CALDESC:Events for Holy Trinity Church Cookham
REFRESH-INTERVAL;VALUE=DURATION:PT1H
X-Robots-Tag:noindex
X-PUBLISHED-TTL:PT1H
BEGIN:VTIMEZONE
TZID:UTC
BEGIN:STANDARD
TZOFFSETFROM:+0000
TZOFFSETTO:+0000
TZNAME:UTC
DTSTART:20210101T000000
END:STANDARD
END:VTIMEZONE
BEGIN:VEVENT
DTSTART;TZID=UTC:20220602T183000
DTEND;TZID=UTC:20220602T190000
DTSTAMP:20260420T103059
CREATED:20220515T084504Z
LAST-MODIFIED:20220515T084504Z
UID:13960-1654194600-1654196400@holytrinitycookham.org.uk
SUMMARY:Come and celebrate the Queen’s Platinum Jubilee with music and song!
DESCRIPTION:
URL:https://holytrinitycookham.org.uk/event/come-and-celebrate-the-queens-platinum-jubilee-with-music-and-song/
LOCATION:Berkshire
END:VEVENT
END:VCALENDAR