BEGIN:VCALENDAR
VERSION:2.0
PRODID:-//Holy Trinity Church Cookham - ECPv6.15.12.2//NONSGML v1.0//EN
CALSCALE:GREGORIAN
METHOD:PUBLISH
X-WR-CALNAME:Holy Trinity Church Cookham
X-ORIGINAL-URL:https://holytrinitycookham.org.uk
X-WR-CALDESC:Events for Holy Trinity Church Cookham
REFRESH-INTERVAL;VALUE=DURATION:PT1H
X-Robots-Tag:noindex
X-PUBLISHED-TTL:PT1H
BEGIN:VTIMEZONE
TZID:UTC
BEGIN:STANDARD
TZOFFSETFROM:+0000
TZOFFSETTO:+0000
TZNAME:UTC
DTSTART:20210101T000000
END:STANDARD
END:VTIMEZONE
BEGIN:VEVENT
DTSTART;TZID=UTC:20220410T120000
DTEND;TZID=UTC:20220410T133000
DTSTAMP:20260419T221140
CREATED:20220402T140536Z
LAST-MODIFIED:20220402T140536Z
UID:13922-1649592000-1649597400@holytrinitycookham.org.uk
SUMMARY:Cookham Churches Together Fellowship Lunch
DESCRIPTION:Cookham Churches Together Fellowship Lunch\nDon’t forget to book your place!\nPlease book by this Wednesday 6th April. The cost is £6.00 for a 2 course lunch including drinks.\n10th April Holy Trinity Cookham\nRing Bernadette Clark 01628 530047
URL:https://holytrinitycookham.org.uk/event/cookham-churches-together-fellowship-lunch/
END:VEVENT
BEGIN:VEVENT
DTSTART;TZID=UTC:20220403T120000
DTEND;TZID=UTC:20220403T130000
DTSTAMP:20260419T221140
CREATED:20220402T140408Z
LAST-MODIFIED:20220402T140408Z
UID:13919-1648987200-1648990800@holytrinitycookham.org.uk
SUMMARY:Annual Parochial Church Meeting Sunday 3rd April at 12.00
DESCRIPTION:Annual Parochial Church Meeting Sunday 3rd April at 12.00 Our Annual Parochial Church Meeting (APCM) will be held at 12:00 on Sunday 3 April and copies of the Annual Report are available at the back of church.
URL:https://holytrinitycookham.org.uk/event/annual-parochial-church-meeting-sunday-3rd-april-at-12-00/
END:VEVENT
BEGIN:VEVENT
DTSTART;VALUE=DATE:20220314
DTEND;VALUE=DATE:20220315
DTSTAMP:20260419T221140
CREATED:20200219T134925Z
LAST-MODIFIED:20220123T083739Z
UID:4874-1647216000-1647302399@holytrinitycookham.org.uk
SUMMARY:Whisky Tasting
DESCRIPTION:Whisky Tasting is now at the Old Swan Uppers on Monday 14 March. Since we will be some way from Burns’ Night\, the evening will be offered in memory of his lost love\, Mary Campbell\, who lived in that Whisky Mecca\, Campbeltown\, and whom it is said plighted her troth to Robbie on 14 March 1786. \nIn Mary’s honour we will still toast and eat The Haggis. \nAll existing tickets will remain valid for the new date.
URL:https://holytrinitycookham.org.uk/event/no-meeting-2/
LOCATION:Old Swan Uppers\, 3 The Pound\, Cookham\, Berkshire\, SL6 9QE\, United Kingdom
CATEGORIES:Holy Trinity Ladies Group
ORGANIZER;CN="Mike Clark":MAILTO:pefc@tapestryoflife.co.uk
END:VEVENT
END:VCALENDAR