BEGIN:VCALENDAR
VERSION:2.0
PRODID:-//Holy Trinity Church Cookham - ECPv6.15.12.2//NONSGML v1.0//EN
CALSCALE:GREGORIAN
METHOD:PUBLISH
X-ORIGINAL-URL:https://holytrinitycookham.org.uk
X-WR-CALDESC:Events for Holy Trinity Church Cookham
REFRESH-INTERVAL;VALUE=DURATION:PT1H
X-Robots-Tag:noindex
X-PUBLISHED-TTL:PT1H
BEGIN:VTIMEZONE
TZID:UTC
BEGIN:STANDARD
TZOFFSETFROM:+0000
TZOFFSETTO:+0000
TZNAME:UTC
DTSTART:20220101T000000
END:STANDARD
END:VTIMEZONE
BEGIN:VEVENT
DTSTART;TZID=UTC:20230617T193000
DTEND;TZID=UTC:20230617T213000
DTSTAMP:20260420T031628
CREATED:20230526T143259Z
LAST-MODIFIED:20230526T143259Z
UID:14412-1687030200-1687037400@holytrinitycookham.org.uk
SUMMARY:Organ Recital: Paul Leddington Wright
DESCRIPTION:We are delighted to welcome back the world renowned organist and conductor Paul Leddington Wright (Organist Emeritus of Coventry Cathedral). \nHe entertained a packed church in 2019 and Cookham Festival is delighted to be working with St. John the Baptist church to celebrate the “90th anniversary of their organ”. \nAmong the works Paul will play at this concert are: – Toccata & Fugue in D minor JS Bach and Enigma Variations selection E Elgar. \nTickets are priced £12 each for early booking before 1st June. After 1st June tickets are £15 each. \n 
URL:https://holytrinitycookham.org.uk/event/organ-recital-paul-leddington-wright/
LOCATION:SJB\, Church Road\, Cookham Dean\, Berkshire\, SL6 9PD\, United Kingdom
END:VEVENT
BEGIN:VEVENT
DTSTART;TZID=UTC:20230618T183000
DTEND;TZID=UTC:20230618T193000
DTSTAMP:20260420T031628
CREATED:20230526T141823Z
LAST-MODIFIED:20230526T141823Z
UID:14404-1687113000-1687116600@holytrinitycookham.org.uk
SUMMARY:Boy's & Men's Choir:  Choral Evensong
DESCRIPTION:
URL:https://holytrinitycookham.org.uk/event/boys-mens-choir-choral-evensong/
LOCATION:Holy Trinity Church
ORGANIZER;CN="Victoria Wood":MAILTO:vkjwood@gmail.com
END:VEVENT
BEGIN:VEVENT
DTSTART;TZID=UTC:20230619T183000
DTEND;TZID=UTC:20230619T200000
DTSTAMP:20260420T031628
CREATED:20230526T144729Z
LAST-MODIFIED:20230526T144729Z
UID:14424-1687199400-1687204800@holytrinitycookham.org.uk
SUMMARY:Trinity Talk:  The Frontiers of Roman Britain
DESCRIPTION:Mike Bryan will be talking about the famous World Heritage site of Hadrian’s Wall but also wax about the other great Roman frontier sites in Britain such as the Antonine Wall and the Forts of the Saxon Shore that might be less well known but are equally impressive. \nIt was quite a job keeping the ancient Britons under control and amazingly a substantial amount of the military infrastructure is still there to be seen. \nMike has had a long career in publishing including 32 years at iconic publisher Penguin Books. Most recently he was CEO of Penguin Books India and President of Penguin Books Canada. He is currently Managing Director of The Baker Street Press and a director of the Buckingham Literary Festival. He is an enthusiastic historian of all things Roman. His book Roman Britain and Where to Find It is published by Amberley. \nPlaces at £20 each can be reserved on 01628 527465.\nPay cash on arrival from 6.30pm. Talk starts at 7.00pm.
URL:https://holytrinitycookham.org.uk/event/trinity-talk-the-frontiers-of-roman-britain/
LOCATION:Bel and The Dragon\, High St\, Cookham\, Berkshire\, SL6 9SQ\, United Kingdom
ORGANIZER;CN="Stephanie Diggon":MAILTO:stephaniediddon@hotmail.com
END:VEVENT
BEGIN:VEVENT
DTSTART;TZID=UTC:20230620T190000
DTEND;TZID=UTC:20230620T200000
DTSTAMP:20260420T031628
CREATED:20230526T144124Z
LAST-MODIFIED:20230526T144124Z
UID:14418-1687287600-1687291200@holytrinitycookham.org.uk
SUMMARY:RISE:  Bible discussion
DESCRIPTION:Read the Bible – Imagine Jesus – Seek Reason – Encourage each other \n\n\n\nEveryone is welcome to come along enjoy a drink or food at The Crown and chat about the Bible. \nThis term we will be reading from the early chapters of the book of Genesis. \nIn association with Cookham Methodist Church.
URL:https://holytrinitycookham.org.uk/event/rise-bible-discussion-2/
LOCATION:The Crown\, The Moor\, Cookham\, Berkshire\, SL6 9SB\, United Kingdom
END:VEVENT
BEGIN:VEVENT
DTSTART;TZID=UTC:20230704T190000
DTEND;TZID=UTC:20230704T200000
DTSTAMP:20260420T031628
CREATED:20230526T144228Z
LAST-MODIFIED:20230526T144228Z
UID:14420-1688497200-1688500800@holytrinitycookham.org.uk
SUMMARY:RISE:  Bible discussion
DESCRIPTION:Read the Bible – Imagine Jesus – Seek Reason – Encourage each other \n\n\n\nEveryone is welcome to come along enjoy a drink or food at The Crown and chat about the Bible. \nThis term we will be reading from the early chapters of the book of Genesis. \nIn association with Cookham Methodist Church.
URL:https://holytrinitycookham.org.uk/event/rise-bible-discussion-3/
LOCATION:The Crown\, The Moor\, Cookham\, Berkshire\, SL6 9SB\, United Kingdom
END:VEVENT
BEGIN:VEVENT
DTSTART;TZID=UTC:20230709T183000
DTEND;TZID=UTC:20230709T193000
DTSTAMP:20260420T031628
CREATED:20230526T141934Z
LAST-MODIFIED:20230526T141934Z
UID:14406-1688927400-1688931000@holytrinitycookham.org.uk
SUMMARY:Girl's & Boy's Choir:  Rejoice in the Lord
DESCRIPTION:
URL:https://holytrinitycookham.org.uk/event/girls-boys-choir-rejoice-in-the-lord/
LOCATION:Holy Trinity Church
ORGANIZER;CN="Victoria Wood":MAILTO:vkjwood@gmail.com
END:VEVENT
BEGIN:VEVENT
DTSTART;TZID=UTC:20230716T183000
DTEND;TZID=UTC:20230716T193000
DTSTAMP:20260420T031628
CREATED:20230526T142101Z
LAST-MODIFIED:20230704T204800Z
UID:14408-1689532200-1689535800@holytrinitycookham.org.uk
SUMMARY:Evensong: Dedicated to the memory of Ricky London
DESCRIPTION:Men’s Choir & Assistant Director
URL:https://holytrinitycookham.org.uk/event/compline-dedicated-to-the-memory-of-ricky-london/
LOCATION:Holy Trinity Church
ORGANIZER;CN="Victoria Wood":MAILTO:vkjwood@gmail.com
END:VEVENT
BEGIN:VEVENT
DTSTART;TZID=UTC:20230718T190000
DTEND;TZID=UTC:20230718T200000
DTSTAMP:20260420T031628
CREATED:20230526T144336Z
LAST-MODIFIED:20230526T144336Z
UID:14422-1689706800-1689710400@holytrinitycookham.org.uk
SUMMARY:RISE:  Bible discussion
DESCRIPTION:Read the Bible – Imagine Jesus – Seek Reason – Encourage each other \n\n\n\nEveryone is welcome to come along enjoy a drink or food at The Crown and chat about the Bible. \nThis term we will be reading from the early chapters of the book of Genesis. \nIn association with Cookham Methodist Church.
URL:https://holytrinitycookham.org.uk/event/rise-bible-discussion-4/
LOCATION:The Crown\, The Moor\, Cookham\, Berkshire\, SL6 9SB\, United Kingdom
END:VEVENT
BEGIN:VEVENT
DTSTART;TZID=UTC:20230910T120000
DTEND;TZID=UTC:20230910T140000
DTSTAMP:20260420T031628
CREATED:20230907T114459Z
LAST-MODIFIED:20230907T114531Z
UID:14551-1694347200-1694354400@holytrinitycookham.org.uk
SUMMARY:Cookham Churches Together Fellowship Lunch
DESCRIPTION:
URL:https://holytrinitycookham.org.uk/event/cookham-churches-together-fellowship-lunch-10/
LOCATION:Cookham Methodist Church\, Lower Road\, Cookham\, Berkshire\, SL6 9HJ\, United Kingdom
END:VEVENT
BEGIN:VEVENT
DTSTART;TZID=UTC:20230916T193000
DTEND;TZID=UTC:20230916T203000
DTSTAMP:20260420T031628
CREATED:20230907T115912Z
LAST-MODIFIED:20230907T120112Z
UID:14564-1694892600-1694896200@holytrinitycookham.org.uk
SUMMARY:Brass Quintet
DESCRIPTION:Quintessential Brass\, recently returned from a concert tour of the Loire Valley in France\, will play music spanning the last 400 years including original works for brass and arrangements of familiar light repertoire. \nTickets include a drink and canapés in the interval.
URL:https://holytrinitycookham.org.uk/event/brass-quintet/
LOCATION:SJB\, Church Road\, Cookham Dean\, Berkshire\, SL6 9PD\, United Kingdom
END:VEVENT
BEGIN:VEVENT
DTSTART;TZID=UTC:20230918T183000
DTEND;TZID=UTC:20230918T200000
DTSTAMP:20260420T031628
CREATED:20230907T113538Z
LAST-MODIFIED:20230907T113556Z
UID:14547-1695061800-1695067200@holytrinitycookham.org.uk
SUMMARY:Diamonds: A Trinity Talk with Peter Cooke
DESCRIPTION:Peter will examine their different types\, shapes and colours\, how they are formed and where they are found. He will explain De Beers’ role in making diamonds the preferred precious jewel of choice. \nPeter’s involvement with diamonds started when he joined the newly-formed De Beers Research Centre in Maidenhead. \nArrive 6.30pm for Prosecco and canapés.   The talk follows at 7pm. \nPlaces can be reserved stephaniediggon@hotmail.com or by phone on 01628 527465.
URL:https://holytrinitycookham.org.uk/event/diamonds-a-trinity-talk-with-peter-cooke/
LOCATION:Bel and The Dragon\, High St\, Cookham\, Berkshire\, SL6 9SQ\, United Kingdom
ORGANIZER;CN="Stephanie Diggon":MAILTO:stephaniediddon@hotmail.com
END:VEVENT
BEGIN:VEVENT
DTSTART;TZID=UTC:20230924T160000
DTEND;TZID=UTC:20230924T170000
DTSTAMP:20260420T031628
CREATED:20230907T115224Z
LAST-MODIFIED:20230907T115224Z
UID:14560-1695571200-1695574800@holytrinitycookham.org.uk
SUMMARY:Families@4
DESCRIPTION:Harvest Festival \nWe will be back on Sunday 24th September with our popular Harvest service. \nWe look forward to the school joining us and playing in the orchestra. \nPlease bring a can for Foodshare.
URL:https://holytrinitycookham.org.uk/event/families4/
LOCATION:SJB\, Church Road\, Cookham Dean\, Berkshire\, SL6 9PD\, United Kingdom
END:VEVENT
BEGIN:VEVENT
DTSTART;TZID=UTC:20230924T183000
DTEND;TZID=UTC:20230924T193000
DTSTAMP:20260420T031628
CREATED:20230907T112141Z
LAST-MODIFIED:20230907T112141Z
UID:14535-1695580200-1695583800@holytrinitycookham.org.uk
SUMMARY:Choral Evensong
DESCRIPTION:
URL:https://holytrinitycookham.org.uk/event/choral-evensong/
LOCATION:Holy Trinity Church
END:VEVENT
BEGIN:VEVENT
DTSTART;TZID=UTC:20231001T183000
DTEND;TZID=UTC:20231001T193000
DTSTAMP:20260420T031628
CREATED:20230907T112323Z
LAST-MODIFIED:20230907T112323Z
UID:14537-1696185000-1696188600@holytrinitycookham.org.uk
SUMMARY:Compline
DESCRIPTION:
URL:https://holytrinitycookham.org.uk/event/compline/
LOCATION:Holy Trinity Church
END:VEVENT
BEGIN:VEVENT
DTSTART;TZID=UTC:20231004T103000
DTEND;TZID=UTC:20231004T113000
DTSTAMP:20260420T031628
CREATED:20230907T120359Z
LAST-MODIFIED:20230907T120455Z
UID:14570-1696415400-1696419000@holytrinitycookham.org.uk
SUMMARY:OXFAM Coffee Morning
DESCRIPTION:The pre-fast Coffee Morning will be held at the Parish Centre. \nTickets are available from \nThe Little Bookshop\, 16 High Street Cookham SL6 9JT \nor from \nClippers\, 2 Station Road\, Cookham SL6 9BT. \nEvery penny raised goes to Oxfam. At the moment our celebrity speaker is a mystery but all will be revealed as soon as possible. Watch this space!
URL:https://holytrinitycookham.org.uk/event/oxfam-coffee-morning/
LOCATION:Holy Trinity Church
END:VEVENT
BEGIN:VEVENT
DTSTART;TZID=UTC:20231008T120000
DTEND;TZID=UTC:20231008T140000
DTSTAMP:20260420T031628
CREATED:20230907T114637Z
LAST-MODIFIED:20230907T114637Z
UID:14553-1696766400-1696773600@holytrinitycookham.org.uk
SUMMARY:Cookham Churches Together Fellowship Lunch
DESCRIPTION:
URL:https://holytrinitycookham.org.uk/event/cookham-churches-together-fellowship-lunch-11/
LOCATION:SJB\, Church Road\, Cookham Dean\, Berkshire\, SL6 9PD\, United Kingdom
END:VEVENT
BEGIN:VEVENT
DTSTART;TZID=UTC:20231008T183000
DTEND;TZID=UTC:20231008T193000
DTSTAMP:20260420T031628
CREATED:20230907T112427Z
LAST-MODIFIED:20230907T112427Z
UID:14539-1696789800-1696793400@holytrinitycookham.org.uk
SUMMARY:Choral Evensong
DESCRIPTION:
URL:https://holytrinitycookham.org.uk/event/choral-evensong-2/
LOCATION:Holy Trinity Church
END:VEVENT
BEGIN:VEVENT
DTSTART;TZID=UTC:20231029T150000
DTEND;TZID=UTC:20231029T163000
DTSTAMP:20260420T031628
CREATED:20230907T112755Z
LAST-MODIFIED:20230907T112946Z
UID:14541-1698591600-1698597000@holytrinitycookham.org.uk
SUMMARY:Service of remembrance for loved ones who have died
DESCRIPTION:
URL:https://holytrinitycookham.org.uk/event/service-of-remembrance-for-loved-ones-who-have-died/
LOCATION:Holy Trinity Church
END:VEVENT
BEGIN:VEVENT
DTSTART;TZID=UTC:20231105T120000
DTEND;TZID=UTC:20231105T140000
DTSTAMP:20260420T031628
CREATED:20230907T114756Z
LAST-MODIFIED:20230907T114756Z
UID:14556-1699185600-1699192800@holytrinitycookham.org.uk
SUMMARY:Cookham Churches Together Fellowship Lunch
DESCRIPTION:
URL:https://holytrinitycookham.org.uk/event/cookham-churches-together-fellowship-lunch-12/
LOCATION:Holy Trinity Church
END:VEVENT
BEGIN:VEVENT
DTSTART;TZID=UTC:20231126T160000
DTEND;TZID=UTC:20231126T170000
DTSTAMP:20260420T031628
CREATED:20230907T115433Z
LAST-MODIFIED:20230907T115433Z
UID:14562-1701014400-1701018000@holytrinitycookham.org.uk
SUMMARY:Families@4
DESCRIPTION:Christingle \nOur popular annual service with orchestra from school
URL:https://holytrinitycookham.org.uk/event/families4-2/
LOCATION:SJB\, Church Road\, Cookham Dean\, Berkshire\, SL6 9PD\, United Kingdom
END:VEVENT
BEGIN:VEVENT
DTSTART;TZID=UTC:20231126T183000
DTEND;TZID=UTC:20231126T193000
DTSTAMP:20260420T031628
CREATED:20230907T112852Z
LAST-MODIFIED:20231005T153556Z
UID:14543-1701023400-1701027000@holytrinitycookham.org.uk
SUMMARY:Advent Carol Service
DESCRIPTION:
URL:https://holytrinitycookham.org.uk/event/advent-carol-service/
LOCATION:Holy Trinity Church
END:VEVENT
BEGIN:VEVENT
DTSTART;TZID=UTC:20231210T080000
DTEND;TZID=UTC:20231210T170000
DTSTAMP:20260420T031628
CREATED:20230907T114917Z
LAST-MODIFIED:20230907T114917Z
UID:14558-1702195200-1702227600@holytrinitycookham.org.uk
SUMMARY:Cookham Churches Together Fellowship Lunch
DESCRIPTION:Christmas Lunch
URL:https://holytrinitycookham.org.uk/event/cookham-churches-together-fellowship-lunch-13/
LOCATION:SJB\, Church Road\, Cookham Dean\, Berkshire\, SL6 9PD\, United Kingdom
END:VEVENT
BEGIN:VEVENT
DTSTART;TZID=UTC:20231225T183000
DTEND;TZID=UTC:20231225T193000
DTSTAMP:20260420T031628
CREATED:20230907T113041Z
LAST-MODIFIED:20230907T113041Z
UID:14545-1703529000-1703532600@holytrinitycookham.org.uk
SUMMARY:Carols by Candlelight
DESCRIPTION:
URL:https://holytrinitycookham.org.uk/event/carols-by-candlelight-2/
LOCATION:Holy Trinity Church
END:VEVENT
BEGIN:VEVENT
DTSTART;TZID=UTC:20240111T190000
DTEND;TZID=UTC:20240111T203000
DTSTAMP:20260420T031628
CREATED:20240108T180239Z
LAST-MODIFIED:20240108T180548Z
UID:14692-1704999600-1705005000@holytrinitycookham.org.uk
SUMMARY:Institution and Induction of Revd Stephen Mills
DESCRIPTION:We hope that as many of our congregations as possible will come to the Institution and Induction Service\, led by the Bishop of Reading and Archdeacon of Berkshire\, to welcome Revd Stephen Mills as our new Vicar of the Cookhams. \nOriginally planned to be at Holy Trinity Cookham you are no doubt aware Cookham is badly affected by flooding and there is no vehicular access to the village in the evenings.  We have therefore decided to relocate the Institution and Induction of The Rev Stephen Mills to St John the Baptist Church. \nThis church is slightly smaller than Holy Trinity Church and there is limited parking. \nThere will still be refreshments afterwards  to which all are welcome.
URL:https://holytrinitycookham.org.uk/event/institution-and-induction-of-revd-stephen-mills/
LOCATION:SJB\, Church Road\, Cookham Dean\, Berkshire\, SL6 9PD\, United Kingdom
END:VEVENT
BEGIN:VEVENT
DTSTART;TZID=UTC:20240604T080000
DTEND;TZID=UTC:20240614T170000
DTSTAMP:20260420T031628
CREATED:20230224T125554Z
LAST-MODIFIED:20230224T125615Z
UID:14313-1717488000-1718384400@holytrinitycookham.org.uk
SUMMARY:Pilgrimage to Greece
DESCRIPTION:Details of our Pilgrimage to Greece. Brochure here\nIn the Footsteps of St Paul 4th – 14th June 2024. An 11 day pilgrimage to Greece including Philippi\, Thessalonica\, Delphi\, Athens & Corinth. Led by Rev David Joynes. Brochures and booking forms available at Holy Trinity Church and St John the Baptist. For more information contact Lorna Sykes 01628 486874 email l.j.sykes@btinternet.com \n 
URL:https://holytrinitycookham.org.uk/event/pilgrimage-to-greece/
END:VEVENT
BEGIN:VEVENT
DTSTART;TZID=UTC:20241224T160000
DTEND;TZID=UTC:20241224T170000
DTSTAMP:20260420T031628
CREATED:20241202T102809Z
LAST-MODIFIED:20241202T102809Z
UID:15011-1735056000-1735059600@holytrinitycookham.org.uk
SUMMARY:Crib Service
DESCRIPTION:This year’s Crib Service will be held outside in the church yard so please wrap up warm.
URL:https://holytrinitycookham.org.uk/event/crib-service/
LOCATION:Holy Trinity Church
END:VEVENT
BEGIN:VEVENT
DTSTART;TZID=UTC:20250112T120000
DTEND;TZID=UTC:20250112T140000
DTSTAMP:20260420T031628
CREATED:20250103T120711Z
LAST-MODIFIED:20250103T120711Z
UID:15045-1736683200-1736690400@holytrinitycookham.org.uk
SUMMARY:Fellowship Lunch
DESCRIPTION:
URL:https://holytrinitycookham.org.uk/event/fellowship-lunch/
LOCATION:Cookham Methodist Church\, Lower Road\, Cookham\, Berkshire\, SL6 9HJ\, United Kingdom
END:VEVENT
BEGIN:VEVENT
DTSTART;TZID=UTC:20250112T183000
DTEND;TZID=UTC:20250112T193000
DTSTAMP:20260420T031628
CREATED:20250103T120429Z
LAST-MODIFIED:20250103T120429Z
UID:15043-1736706600-1736710200@holytrinitycookham.org.uk
SUMMARY:Epiphany Carol Service
DESCRIPTION:Light in the long month of January as we celebrate the special season of Epiphany\, celebrating what has gone and what is to come. If you have never attended a Holy Trinity evening service or Carol Service\, or maybe never been inside St. John the Baptist Church\, why not put 12th January in your diary and make the trip up the hill?
URL:https://holytrinitycookham.org.uk/event/epiphany-carol-service-2/
LOCATION:SJB\, Church Road\, Cookham Dean\, Berkshire\, SL6 9PD\, United Kingdom
END:VEVENT
BEGIN:VEVENT
DTSTART;TZID=UTC:20250119T150000
DTEND;TZID=UTC:20250119T160000
DTSTAMP:20260420T031628
CREATED:20250103T120852Z
LAST-MODIFIED:20250103T120852Z
UID:15047-1737298800-1737302400@holytrinitycookham.org.uk
SUMMARY:Tea Time for the Soul
DESCRIPTION:Our Teatime for the Soul service will take the form of an Ecumenical Songs of Praise led by our Minister\, Rev Vicci Davidson. This will be our Cookham churches contribution to the Week of Prayer for Christian Unity. Hymns will have been chosen by members of the Anglican\, Catholic and Methodist churches. \nThe service will be followed by our usual tea of scones and cakes. All are most welcome.
URL:https://holytrinitycookham.org.uk/event/tea-time-for-the-soul/
LOCATION:Cookham Methodist Church\, Lower Road\, Cookham\, Berkshire\, SL6 9HJ\, United Kingdom
END:VEVENT
BEGIN:VEVENT
DTSTART;TZID=UTC:20250120T183000
DTEND;TZID=UTC:20250120T200000
DTSTAMP:20260420T031628
CREATED:20250103T120142Z
LAST-MODIFIED:20250103T120142Z
UID:15041-1737397800-1737403200@holytrinitycookham.org.uk
SUMMARY:Trinity Talks:  A Walk on the Wild Side
DESCRIPTION:Photographer David Fettes captures the beauty of the natural world\, whether it be landscapes\, wildlife or its varied habitats. During his talk he will share his images and memories of wilderness\, stunning light and animal behaviours. He will explain how we are impacting wildlife and habitats – and how\, with thought and positive action\, we can reverse some of the negative and often unintended consequences of our actions. \n\n\n\nEveryone is welcome\, but capacity is limited\, so please check in advance. \nWhen reserving your place at £20 each by email (preferably) stephaniediggon@hotmail.com or phone on 01628 527465\, please let me know of any food allergies. Pay cash on arrival from 6.30pm (for Prosecco and canapés). Talks start at 7pm and finish around 8pm.
URL:https://holytrinitycookham.org.uk/event/trinity-talks-a-walk-on-the-wild-side/
LOCATION:Bel and The Dragon\, High St\, Cookham\, Berkshire\, SL6 9SQ\, United Kingdom
ORGANIZER;CN="Stephanie Diggon":MAILTO:stephaniediddon@hotmail.com
END:VEVENT
END:VCALENDAR