BEGIN:VCALENDAR
VERSION:2.0
PRODID:-//Holy Trinity Church Cookham - ECPv6.15.12.2//NONSGML v1.0//EN
CALSCALE:GREGORIAN
METHOD:PUBLISH
X-WR-CALNAME:Holy Trinity Church Cookham
X-ORIGINAL-URL:https://holytrinitycookham.org.uk
X-WR-CALDESC:Events for Holy Trinity Church Cookham
REFRESH-INTERVAL;VALUE=DURATION:PT1H
X-Robots-Tag:noindex
X-PUBLISHED-TTL:PT1H
BEGIN:VTIMEZONE
TZID:UTC
BEGIN:STANDARD
TZOFFSETFROM:+0000
TZOFFSETTO:+0000
TZNAME:UTC
DTSTART:20240101T000000
END:STANDARD
END:VTIMEZONE
BEGIN:VEVENT
DTSTART;TZID=UTC:20251224T160000
DTEND;TZID=UTC:20251224T180000
DTSTAMP:20260420T062544
CREATED:20251202T175004Z
LAST-MODIFIED:20251202T175004Z
UID:15300-1766592000-1766599200@holytrinitycookham.org.uk
SUMMARY:Crib Service
DESCRIPTION:A live Nativity Scene with a real donkey and sheep bringing the Christmas story to life in a beautiful setting. \nChildren – come dressed as angels or shepherds! \nThere will be snow in Cookham\, with free mulled wine and hot chocolate for everyone. \nAll are warmly welcome – Families\, friends and visitors for this joyful candlelit celebration of Christ’s birth
URL:https://holytrinitycookham.org.uk/event/crib-service-2/
LOCATION:Holy Trinity Church Cookham\, Church Gate\, Cookham\, Berkshire\, SL6 9SP\, United Kingdom
END:VEVENT
BEGIN:VEVENT
DTSTART;TZID=UTC:20251224T233000
DTEND;TZID=UTC:20251224T233000
DTSTAMP:20260420T062544
CREATED:20251202T175355Z
LAST-MODIFIED:20251202T175355Z
UID:15306-1766619000-1766619000@holytrinitycookham.org.uk
SUMMARY:Midnight Mass
DESCRIPTION:
URL:https://holytrinitycookham.org.uk/event/midnight-mass/
LOCATION:Holy Trinity Church Cookham\, Church Gate\, Cookham\, Berkshire\, SL6 9SP\, United Kingdom
END:VEVENT
BEGIN:VEVENT
DTSTART;TZID=UTC:20251225T100000
DTEND;TZID=UTC:20251225T110000
DTSTAMP:20260420T062544
CREATED:20251202T175529Z
LAST-MODIFIED:20251202T175529Z
UID:15308-1766656800-1766660400@holytrinitycookham.org.uk
SUMMARY:Christmas Morning Eucharist
DESCRIPTION:
URL:https://holytrinitycookham.org.uk/event/christmas-morning-eucharist/
LOCATION:Holy Trinity Church Cookham\, Church Gate\, Cookham\, Berkshire\, SL6 9SP\, United Kingdom
END:VEVENT
BEGIN:VEVENT
DTSTART;TZID=UTC:20251225T180000
DTEND;TZID=UTC:20251225T190000
DTSTAMP:20260420T062544
CREATED:20251202T175628Z
LAST-MODIFIED:20251202T175628Z
UID:15310-1766685600-1766689200@holytrinitycookham.org.uk
SUMMARY:Christmas Carol Service
DESCRIPTION:
URL:https://holytrinitycookham.org.uk/event/christmas-carol-service/
LOCATION:Holy Trinity Church Cookham\, Church Gate\, Cookham\, Berkshire\, SL6 9SP\, United Kingdom
END:VEVENT
END:VCALENDAR